BEGIN:VCALENDAR
VERSION:2.0
PRODID:-//VINE Calendar - ECPv6.15.18//NONSGML v1.0//EN
CALSCALE:GREGORIAN
METHOD:PUBLISH
X-ORIGINAL-URL:https://calendar.vine.vic.edu.au
X-WR-CALDESC:Events for VINE Calendar
REFRESH-INTERVAL;VALUE=DURATION:PT1H
X-Robots-Tag:noindex
X-PUBLISHED-TTL:PT1H
BEGIN:VTIMEZONE
TZID:Australia/Melbourne
BEGIN:STANDARD
TZOFFSETFROM:+1100
TZOFFSETTO:+1000
TZNAME:AEST
DTSTART:20250405T160000
END:STANDARD
BEGIN:DAYLIGHT
TZOFFSETFROM:+1000
TZOFFSETTO:+1100
TZNAME:AEDT
DTSTART:20251004T160000
END:DAYLIGHT
BEGIN:STANDARD
TZOFFSETFROM:+1100
TZOFFSETTO:+1000
TZNAME:AEST
DTSTART:20260404T160000
END:STANDARD
BEGIN:DAYLIGHT
TZOFFSETFROM:+1000
TZOFFSETTO:+1100
TZNAME:AEDT
DTSTART:20261003T160000
END:DAYLIGHT
BEGIN:STANDARD
TZOFFSETFROM:+1100
TZOFFSETTO:+1000
TZNAME:AEST
DTSTART:20270403T160000
END:STANDARD
BEGIN:DAYLIGHT
TZOFFSETFROM:+1000
TZOFFSETTO:+1100
TZNAME:AEDT
DTSTART:20271002T160000
END:DAYLIGHT
END:VTIMEZONE
BEGIN:VEVENT
DTSTART;TZID=Australia/Melbourne:20260924T090000
DTEND;TZID=Australia/Melbourne:20260924T160000
DTSTAMP:20260419T221308
CREATED:20260211T213401Z
LAST-MODIFIED:20260211T213401Z
UID:2799-1790240400-1790265600@calendar.vine.vic.edu.au
SUMMARY:VINE 2026 - Strategy and Leadership
DESCRIPTION:Event details and registration information will be shared soon – stay tuned!
URL:https://calendar.vine.vic.edu.au/event/vine-2026-strategy-and-leadership/
LOCATION:Haileybury College\, Keysborough\, 855 Springvale Road\, Keysborough\, Victoria\, 3173\, Australia
ORGANIZER;CN="VINE":MAILTO:admin@vine.vic.edu.au
END:VEVENT
BEGIN:VEVENT
DTSTART;TZID=Australia/Melbourne:20261001T090000
DTEND;TZID=Australia/Melbourne:20261001T160000
DTSTAMP:20260419T221308
CREATED:20260317T021418Z
LAST-MODIFIED:20260317T021418Z
UID:2848-1790845200-1790870400@calendar.vine.vic.edu.au
SUMMARY:VINE 2026 - Security Event
DESCRIPTION:Event details and registration information will be shared soon – stay tuned!
URL:https://calendar.vine.vic.edu.au/event/vine-2026-security-event/
ORGANIZER;CN="VINE":MAILTO:admin@vine.vic.edu.au
END:VEVENT
END:VCALENDAR